BEGIN:VCALENDAR
VERSION:2.0
PRODID:-//eventon.com NONSGML v1.0//EN
CALSCALE:GREGORIAN
METHOD:PUBLISH
BEGIN:VEVENT
UID:69e9e9f9cc59a
DTSTAMP:20260423T094425Z
DTSTART:20231220T020000Z
DTEND:20231220T050000Z
LOCATION:
SUMMARY:Christmas Party
DESCRIPTION:Speaking Machine Toatmasters invites you to our Christmas Party
 . All Ages Welcomed.\nhttps://www.speakingmachine.org/events/christmas-part
 y/
URL:https://www.speakingmachine.org/events/christmas-party/
END:VEVENT
END:VCALENDAR