BEGIN:VCALENDAR
VERSION:2.0
PRODID:-//eventon.com NONSGML v1.0//EN
CALSCALE:GREGORIAN
METHOD:PUBLISH
BEGIN:VEVENT
UID:69ec0d6edaac4
DTSTAMP:20260425T004014Z
DTSTART:20240317T230000Z
DTEND:20240318T003000Z
LOCATION:
SUMMARY:Club Officer Meeting
DESCRIPTION:\nhttps://www.speakingmachine.org/events/club-officer-meeting-7
 /
URL:https://www.speakingmachine.org/events/club-officer-meeting-7/
END:VEVENT
END:VCALENDAR